BEGIN:VCALENDAR
VERSION:2.0
PRODID:-//wp-events-plugin.com//7.2.3.1//EN
TZID:America/Chicago
X-WR-TIMEZONE:America/Chicago
BEGIN:VEVENT
UID:292@mayvilleportland.com
DTSTART;TZID=America/Chicago:20241105T120000
DTEND;TZID=America/Chicago:20241105T120000
DTSTAMP:20251121T024650Z
URL:https://www.mayvilleportland.com/events/may-port-edc-meeting-2024-01-0
 2-2024-02-06-2024-03-05-2024-04-02-2024-05-07-2024-06-04-2024-07-02-2024-0
 8-06-2024-09-03-2024-10-01-2024-11-05/
SUMMARY:May-Port EDC Meeting
DESCRIPTION:The MayPort EDC meets at noon on the first Tuesday of each mont
 h.\n\nThe location of the meeting is Tommys Sports Bar by Pizza Shop\n\nEm
 ail us at mpedc@mayvilleportland.com with any questions.
CATEGORIES:Community
END:VEVENT
BEGIN:VTIMEZONE
TZID:America/Chicago
X-LIC-LOCATION:America/Chicago
BEGIN:STANDARD
DTSTART:20241103T010000
TZOFFSETFROM:-0500
TZOFFSETTO:-0600
TZNAME:CST
END:STANDARD
END:VTIMEZONE
END:VCALENDAR